Workbook
Name TMSCORE: [1]Sheet1!$K$5:$M$320

Sheet U13G
A2: Essex Cross Country League (3) | H2: Sponsored by
A3: Horseheath | C3: U13 Girls | D3: 42693
A5: Pos | B5: Name | C5: Team | D5: Time | G5: Pos | H5: Name | I5: Team | J5: Time
A6: 1 | B6: Sydney Foley | C6: Havering AC | D6: 12: | E6: 26
A7: 2 | B7: Holly Freegard | C7: Basildon AC | E7: 48
A8: 3 | B8: Erin Little | C8: Chelmsford AC | E8: 48
A9: 4 | B9: Demi Eaves | C9: Thurrock Harriers | E9: 55
A10: 5 | B10: Chloe Rand | C10: Havering AC | D10: 13: | E10: 8
A11: 6 | B11: Daizy Harris | C11: Basildon AC | E11: 22
A12: 7 | B12: Ellen Savidge | C12: Harlow AC | E12: 27
A13: 8 | B13: Grace Holmes | C13: Southend-on-Sea AC | E13: 37
A14: 9 | B14: Dana Fraser | C14: Cambridge & Coleridge AC | E14: 45
A15: 10 | B15: Sophie Anderson | C15: Southend-on-Sea AC | E15: 54
A16: 11 | B16: Ifeoma Okoh | C16: Chelmsford AC | D16: 14: | E16: 2
A17: 12 | B17: Madeleine Claydon | C17: Colchester Harriers AC | E17: 3
A18: 13 | B18: Hannah Peacock | C18: Thurrock Harriers | E18: 7
A19: 14 | B19: Annie Grannell | C19: Havering AC | E19: 9
A20: 15 | B20: Hannah Johnson | C20: Havering AC | E20: 18
A21: 16 | B21: Maddie Barker | C21: Havering AC | E21: 22
A22: 17 | B22: Rebecca O'Rourke | C22: Havering AC | E22: 24
A23: 18 | B23: Amelia Maris | C23: Cambridge & Coleridge AC | E23: 29
A24: 19 | B24: Robyn Bartholomew | C24: Southend-on-Sea AC | E24: 41
A25: 20 | B25: Holly Watson | C25: Chelmsford AC | E25: 42
A26: 21 | B26: Leila Querns | C26: Cambridge & Coleridge AC | E26: 49
A27: 22 | B27: ?? Ahmed | C27: Cambridge & Coleridge AC | E27: 52
A28: 23 | B28: Olive Cooke | C28: Cambridge & Coleridge AC | E28: 57
A29: 24 | B29: Holly Bradley | C29: Havering AC | E29: 59
A30: 25 | B30: Morgan Romain | C30: Havering AC | D30: 15: | E30: 0
A31: 26 | B31: MacKenzie Cranfield | C31: Harlow AC | E31: 3
A32: 27 | B32: Laila Melbrate | C32: Orion Harriers | E32: 8
A33: 28 | B33: Kennedy Beardwell | C33: Thurrock Harriers | E33: 41
A34: 29 | B34: Anna Leinemann | C34: Discovery Triathlon Club | E34: 45 | I34: Teams
A35: 30 | B35: Kitty Hilling | C35: Cambridge & Coleridge AC | E35: 47 | H35: 1 | I35: Havering AC | J35: 35
A36: 31 | B36: Katie Brennan | C36: Harlow AC | E36: 52 | H36: 2 | I36: Chelmsford AC | J36: 66
A37: 32 | B37: Lauryn Wood | C37: Chelmsford AC | D37: 16: | E37: 6 | H37: 3 | I37: Cambridge & Coleridge AC | J37: 70
A38: 33 | B38: Charlotte Bridger | C38: Cambridge & Coleridge AC | E38: 8 | H38: 4 | I38: Thurrock Harriers | J38: 79
A39: 34 | B39: Madeline Booty | C39: Thurrock Harriers | E39: 10 | H39: 5 | I39: Southend-on-Sea AC | J39: 37 | K39: (3)
A40: 35 | B40: Evie Buchan | C40: Cambridge & Coleridge AC | E40: 18 | H40: 6 | I40: Harlow AC | J40: 64 | K40: (3)
A41: 36 | B41: Holly Webb | C41: Cambridge & Coleridge AC | E41: 40 | H41: 7 | I41: Orion Harriers | J41: 103 | K41: (3)
A42: 37 | B42: Jemima Maidment | C42: Orion Harriers | E42: 56 | H42: 8 | I42: Basildon AC | J42: 8 | K42: (2)
A43: 38 | B43: Gabriella Browne | C43: Havering AC | D43: 17: | E43: 8 | H43: 9 | I43: Colchester Harriers AC | J43: 12 | K43: (1)
A44: 39 | B44: Eve Smith | C44: Orion Harriers | D44: 18: | E44: 19 | H44: 10 | I44: Discovery Triathlon Club | J44: 29 | K44: (1)
A45: 40 | B45: Mia Price | C45: Havering AC | D45: 19: | E45: 30
A47: Find us on Facebook under ESSEX CROSS COUNTRY LEAGUE

Sheet U13B
A2: =U13G!A2 -> Essex Cross Country League (3) | H2: Sponsored by
A3: =U13G!A3 -> Horseheath | C3: U13 Boys | D3: =U13G!D3 -> 42693
A5: Pos | B5: Name | C5: Team | D5: Time
A6: 1 | B6: Alex Ford | C6: Havering AC | D6: 11: | E6: 37
A7: 2 | B7: Kristian Kalmanis | C7: Southend-on-Sea AC | E7: 38
A8: 3 | B8: Aidan Cahill | C8: Braintree & District AC | E8: 40
A9: 4 | B9: Luke Pullen | C9: Southend-on-Sea AC | E9: 44
A10: 5 | B10: Jorge Aguilar-Agon | C10: Cambridge & Coleridge AC | E10: 45
A11: 6 | B11: Joe Muller | C11: Southend-on-Sea AC | E11: 47
A12: 7 | B12: Miles Benyan | C12: Cambridge & Coleridge AC | D12: 12: | E12: 3
A13: 8 | B13: Finn McGrath | C13: Cambridge & Coleridge AC | E13: 10
A14: 9 | B14: Jake Borrett | C14: Cambridge & Coleridge AC | E14: 17
A15: 10 | B15: Luke Randall | C15: Southend-on-Sea AC | E15: 21
A16: 11 | B16: Henry Dover | C16: Colchester & Tendring AC | E16: 26
A17: 12 | B17: Archie Conners | C17: Benfleet Running Club | E17: 29
A18: 13 | B18: Jake Lathham | C18: Cambridge & Coleridge AC | E18: 30
A19: 14 | B19: Kyle Gill | C19: East Essex Triathlon Club | E19: 32
A20: 15 | B20: Micky Jones | C20: Southend-on-Sea AC | E20: 34
A21: 16 | B21: Dylan Harrod | C21: Thurrock Harriers | E21: 37
A22: 17 | B22: Bill Titley | C22: Havering AC | E22: 43
A23: 18 | B23: Lenny Houston | C23: Havering AC | E23: 48
A24: 19 | B24: George Keen | C24: Cambridge & Coleridge AC | E24: 53
... A26: 21 | B26: Joshua Peyton | C26: Cambridge & Coleridge AC | E26: 58
A27: 22 | B27: Fred Tall | C27: Southend-on-Sea AC | D27: 13: | E27: 7 | I27: Teams
A28: 23 | B28: Thomas Chaplin | C28: Cambridge & Coleridge AC | E28: 8 | H28: 1 | I28: Southend-on-Sea AC | J28: 22
A29: 24 | B29: Louis Harhalakis | C29: Cambridge & Coleridge AC | E29: 15 | H29: 2 | I29: Cambridge & Coleridge AC | J29: 29
A30: 25 | B30: Daniel Pike | C30: Discovery Triathlon Club | E30: 17 | H30: 3 | I30: Havering AC | J30: 64
A31: 26 | B31: Sunny Vehit | C31: Thurrock Harriers | E31: 23 | H31: 4 | I31: Thurrock Harriers | J31: 102
A32: 27 | B32: Kai Lovelock | C32: Thurrock Harriers | E32: 24 | H32: 5 | I32: East Essex Triathlon Club | J32: 85 | K32: (3)
A33: 28 | B33: Timi McDaniel | C33: Havering AC | E33: 27 | H33: 6 | I33: Basildon AC | J33: 58 | K33: (2)
A34: 29 | B34: Onyeka Okoh | C34: Chelmsford AC | E34: 31 | H34: 7 | I34: Chelmsford AC | J34: 59 | K34: (2)
A35: 30 | B35: Cooper Mills | C35: Chelmsford AC | E35: 34 | H35: 8 | I35: Braintree & District AC | J35: 3 | K35: (1)
A36: 31 | B36: Lukas Teleki | C36: Cambridge & Coleridge AC | E36: 48 | H36: 9 | I36: Colchester & Tendring AC | J36: 11 | K36: (1)
A37: 32 | B37: Luca Sangiovanni | C37: Cambridge & Coleridge AC | E37: 53 | H37: 10 | I37: Benfleet Running Club | J37: 12 | K37: (1)
A38: 33 | B38: Harry Moore | C38: Thurrock Harriers | E38: 55 | H38: 11 | I38: Discovery Triathlon Club | J38: 25 | K38: (1)
A39: 34 | B39: Tom Gibney | C39: East Essex Triathlon Club | D39: 14: | E39: 7 | H39: 12 | I39: Harlow AC | J39: 40 | K39: (1)
A40: 35 | B40: Chand Dhillon | C40: Thurrock Harriers | E40: 12
A41: 36 | B41: Noah Trencher | C41: Thurrock Harriers | E41: 14
A42: 37 | B42: Liam Gibney | C42: East Essex Triathlon Club | E42: 53
A43: 38 | B43: Ellis Wright | C43: Basildon AC | E43: 55
A44: 39 | B44: Alex Aldridge | C44: Southend-on-Sea AC | E44: 56
A45: 40 | B45: Archie Engers | C45: Harlow AC | D45: 16: | E45: 24
A47: Find us on Facebook under ESSEX CROSS COUNTRY LEAGUE

Sheet U15G
A2: =U13G!A2 -> Essex Cross Country League (3) | H2: Sponsored by
A3: =U13G!A3 -> Horseheath | C3: U15 Girls | D3: =U13G!D3 -> 42693
A5: Pos | B5: Name | C5: Team | D5: Time
A6: 1 | B6: Molly Sweetman | C6: Havering AC | D6: 15: | E6: 57
A7: 2 | B7: Hayley Instance | C7: Thurrock Harriers | D7: 16: | E7: 3
A8: 3 | B8: Grace Burrell | C8: Basildon AC | E8: 18
A9: 4 | B9: Helena Dyce | C9: Cambridge & Coleridge AC | E9: 29
A10: 5 | B10: Martha Smith | C10: Chelmsford AC | E10: 38
A11: 6 | B11: Faye Sweeting | C11: Chelmsford AC | E11: 46
A12: 7 | B12: Savanna Sirkett | C12: Harlow AC | E12: 55
A13: 8 | B13: Georgia Tombs | C13: Chelmsford AC | D13: 17: | E13: 15
A14: 9 | B14: Sophie Wetheridge | C14: Basildon AC | E14: 29
A15: 10 | B15: Hannah Phipps | C15: Basildon AC | E15: 35
A16: 11 | B16: Hollie Rex | C16: Basildon AC | E16: 39
A17: 12 | B17: Matilda Taylor | C17: Cambridge & Coleridge AC | E17: 41
A18: 13 | B18: Becci Leddy | C18: Orion Harriers | E18: 44
A19: 14 | B19: Frances Haines | C19: Cambridge & Coleridge AC | E19: 52
A20: 15 | B20: Lucy Aitchinson | C20: Chelmsford AC | E20: 58
A21: 16 | B21: Aino Turunen | C21: Cambridge & Coleridge AC | E21: 59 | I21: Teams
A22: 17 | B22: Beth Irving | C22: Cambridge & Coleridge AC | D22: 18: | E22: 0 | H22: 1 | I22: Basildon AC | J22: 33
A23: 18 | B23: Jasmine West | C23: Colchester Harriers AC | E23: 7 | H23: 2 | I23: Chelmsford AC | J23: 34
A24: 19 | B24: Abigail Kerr | C24: Braintree & District AC | E24: 10 | H24: 3 | I24: Cambridge & Coleridge AC | J24: 46
A25: 20 | B25: Annalie Cole | C25: Orion Harriers | E25: 12 | H25: 4 | I25: Havering AC | J25: 83
A26: 21 | B26: Lena Leinemann | C26: Discovery Triathlon Club | D26: 19: | E26: 6 | H26: 5 | I26: Harlow AC | J26: 89
A27: 22 | B27: Hannah Rodgers | C27: Colchester Harriers AC | E27: 24 | H27: 6 | I27: Colchester Harriers AC | J27: 63 | K27: (3)
A28: 23 | B28: Isabella Minder | C28: Colchester Harriers AC | D28: 20: | E28: 38 | H28: 7 | I28: Thurrock Harriers | J28: 27 | K28: (2)
A29: 24 | B29: Eliza Warren | C29: Harlow AC | D29: 21: | E29: 19 | H29: 8 | I29: Orion Harriers | J29: 33 | K29: (2)
A30: 25 | B30: Emily Fall | C30: Thurrock Harriers | E30: 26 | H30: 9 | I30: Braintree & District AC | J30: 19 | K30: (1)
A31: 26 | B31: Katie Rafferty | C31: Havering AC | E31: 58 | H31: 10 | I31: Discovery Triathlon Club | J31: 21 | K31: (1)
A32: 27 | B32: Amy Kilner | C32: Havering AC | D32: 22: | E32: 8
A33: 28 | B33: Mairi Malcolm | C33: Harlow AC | E33: 22
A34: 29 | B34: Jessica James | C34: Havering AC | E34: 31
A35: 30 | B35: Amelia Loveridge | C35: Harlow AC | E35: 58
A36: 31 | B36: Sarah Ahmed | C36: Cambridge & Coleridge AC | D36: 24: | E36: 28
A47: Find us on Facebook under ESSEX CROSS COUNTRY LEAGUE

Sheet U15B
A2: =U13G!A2 -> Essex Cross Country League (3) | H2: Sponsored by
A3: =U13G!A3 -> Horseheath | C3: U15 Boys | D3: =U13G!D3 -> 42693
A5: Pos | B5: Name | C5: Team | D5: Time | G5: Pos | H5: Name | I5: Team | J5: Time
A6: 1 | B6: David Dow | C6: Cambridge & Coleridge AC | D6: 14: | E6: 25 | G6: 41 | H6: Peter Brinton-Quinn | I6: Havering AC | K6: 32
A7: 2 | B7: Danny Millward | C7: Colchester Harriers AC | E7: 28
A8: 3 | B8: Oliver Lill | C8: Basildon AC | E8: 43
A9: 4 | B9: Max Caulfield | C9: Colchester Harriers AC | E9: 46
A10: 5 | B10: Kai Boggon | C10: Guest - WG &EL | E10: 51
A11: 6 | B11: Joseph Trim | C11: East Essex Triathlon Club | D11: 15: | E11: 0
A12: 7 | B12: Jay Shotter | C12: Orion Harriers | E12: 1
A13: 8 | B13: Ben Prior | C13: Thurrock Harriers | E13: 6
A14: 9 | B14: Hugh Dow | C14: Cambridge & Coleridge AC | E14: 13
A15: 10 | B15: Sam Wheatley | C15: Southend-on-Sea AC | E15: 21
A16: 11 | B16: Ziggy Lambton | C16: Colchester Harriers AC | E16: 31
A17: 12 | B17: Zach Bridgeland | C17: Chelmsford AC | E17: 33
A18: 13 | B18: Matthew Warner | C18: Southend-on-Sea AC | E18: 35
A19: 14 | B19: Harry Parker | C19: Thurrock Harriers | E19: 41
A20: 15 | B20: Tom Blake | C20: Cambridge & Coleridge AC | E20: 46
A21: 16 | B21: Thomas Palmer | C21: Colchester & Tendring AC | E21: 53
A22: 17 | B22: Joe Morgan | C22: Harlow AC | D22: 16: | E22: 3
A23: 18 | B23: Finnlay Lowe | C23: Thurrock Harriers | E23: 7
A24: 19 | B24: Thomas Bridger | C24: Cambridge & Coleridge AC | E24: 8
A25: 20 | B25: Tyler Wiltshire | C25: Braintree & District AC | E25: 17
A26: 21 | B26: Saul Ashon | C26: Orion Harriers | E26: 21
A27: 22 | B27: Scott Thomas | C27: Chelmsford AC | E27: 28
A28: 23 | B28: Harry Clarke | C28: Chelmsford AC | E28: 40
A29: 24 | B29: Henri Willett | C29: Thurrock Harriers | E29: 43
A30: 25 | B30: James Rashbrook | C30: Basildon AC | E30: 45
A31: 26 | B31: Mason Hambleton | C31: Thurrock Harriers | E31: 50
A32: 27 | B32: Ben Podd | C32: Chelmsford AC | E32: 52 | I32: Teams
A33: 28 | B33: Ben Naish | C33: Havering AC | E33: 58 | H33: 1 | I33: Cambridge & Coleridge AC | J33: 44
A34: 29 | B34: James Fraser | C34: Cambridge & Coleridge AC | D34: 17: | E34: 3 | H34: 2 | I34: Thurrock Harriers | J34: 64
A35: 30 | B35: Louis Berrett | C35: Havering AC | E35: 9 | H35: 3 | I35: Chelmsford AC | J35: 84
A36: 31 | B36: Henry Jones | C36: Orion Harriers | E36: 16 | H36: 4 | I36: Orion Harriers | J36: 98
A37: 32 | B37: Liam Bell | C37: Cambridge & Coleridge AC | E37: 19 | H37: 5 | I37: Havering AC | J37: 131
A38: 33 | B38: Mark Beale | C38: Chelmsford AC | E38: 50 | H38: 6 | I38: Colchester Harriers AC | J38: 17 | K38: (3)
A39: 34 | B39: Joe Hammond | C39: Colchester & Tendring AC | D39: 18: | E39: 20 | H39: 7 | I39: Southend-on-Sea AC | J39: 23 | K39: (2)
A40: 35 | B40: Matthew Edwards | C40: Havering AC | E40: 43 | H40: 8 | I40: Basildon AC | J40: 28 | K40: (2)
A41: 36 | B41: Ethan Hunter | C41: Chelmsford AC | D41: 19: | E41: 5 | H41: 9 | I41: Colchester & Tendring AC | J41: 50 | K41: (2)
A42: 37 | B42: William Pye | C42: Cambridge & Coleridge AC | E42: 15 | H42: 10 | I42: Guest - WG &EL | J42: 5 | K42: (1)
A43: 38 | B43: Luke Chester | C43: Havering AC | E43: 24 | H43: 11 | I43: East Essex Triathlon Club | J43: 6 | K43: (1)
A44: 39 | B44: Tom Woolf | C44: Orion Harriers | E44: 42 | H44: 12 | I44: Harlow AC | J44: 17 | K44: (1)
A45: 40 | B45: Henry Lay | C45: Havering AC | D45: 20: | E45: 8 | I45: Braintree & District AC | J45: 20 | K45: (1)
A47: Find us on Facebook under ESSEX CROSS COUNTRY LEAGUE

Sheet U1720W
A2: =U13G!A2 -> Essex Cross Country League (3) | H2: Sponsored by
A3: =U13G!A3 -> Horseheath | D3: U17/20 Women | E3: =U13G!D3 -> 42693
A5: Pos | B5: Age | C5: Name | D5: Team | E5: Time
A6: 1 | B6: U17 | C6: Khahisa Mhlanga | D6: Chelmsford AC | E6: 19: | F6: 9
A7: 2 | B7: U17 | C7: Amber Pullinger | D7: Thurrock Harriers | E7: 20: | F7: 10
A8: 3 | B8: U17 | C8: Kate O'Neill | D8: Havering AC | F8: 22
A9: 4 | B9: U20 | C9: Belinda Dow | D9: Cambridge & Coleridge AC | F9: 50
A10: 5 | B10: U17 | C10: Rachel Broome | D10: Chelmsford AC | F10: 55
A11: 6 | B11: U17 | C11: Lottie Rowedder | D11: Harlow AC | F11: 59
A12: 7 | B12: U17 | C12: Sinead Clark | D12: Benfleet Running Club | E12: 21: | F12: 14
A13: 8 | B13: U17 | C13: Sophie Rand | D13: Havering AC | F13: 17
A14: 9 | B14: U17 | C14: Elsie Gray | D14: Colchester & Tendring AC | F14: 53
A15: 10 | B15: U20 | C15: Lydia Callan | D15: Chelmsford AC | E15: 22: | F15: 5
A16: 11 | B16: U17 | C16: Grace Goodard | D16: Benfleet Running Club | F16: 13
A17: 12 | B17: U17 | C17: Abby Rex | D17: Basildon AC | E17: 23: | F17: 13
A18: 13 | B18: U20 | C18: Brooke Mensah | D18: Thurrock Harriers | F18: 26
A19: 14 | B19: U20 | C19: Megan Williams | D19: Chelmsford AC | F19: 30
A20: 15 | B20: U17 | C20: Catherine Barker | D20: Havering AC | E20: 24: | F20: 11 | I20: Teams
A21: 16 | B21: U20 | C21: Georgina Sturgeon | D21: Colchester & Tendring AC | F21: 30 | H21: 1 | I21: Chelmsford AC | J21: 30
H22: 2 | I22: Havering AC | J22: 26 | K22: (3)
H23: 3 | I23: Thurrock Harriers | J23: 15 | K23: (2)
H24: 4 | I24: Benfleet Running Club | J24: 18 | K24: (2)
H25: 5 | I25: Colchester & Tendring AC | J25: 25 | K25: (2)
H26: 6 | I26: Cambridge & Coleridge AC | J26: 4 | K26: (1)
H27: 7 | I27: Harlow AC | J27: 6 | K27: (1)
H28: 8 | I28: Basildon AC | J28: 12 | K28: (1)
A47: Find us on Facebook under ESSEX CROSS COUNTRY LEAGUE

Sheet U17M
A2: =U13G!A2 -> Essex Cross Country League (3) | H2: Sponsored by
A3: =U13G!A3 -> Horseheath | C3: U17 Men | D3: =U13G!D3 -> 42693
A5: Pos | B5: Name | C5: Team | D5: Time
A6: 1 | B6: Lewis Harknett | C6: Harlow AC | D6: 22: | E6: 25
A7: 2 | B7: Oliver Newman | C7: Cambridge & Coleridge AC | E7: 48
A8: 3 | B8: Ben Miller | C8: Colchester & Tendring AC | E8: 53
A9: 4 | B9: Isaac Brown | C9: Basildon AC | E9: 59
A10: 5 | B10: Sam Norris | C10: Southend-on-Sea AC | D10: 23: | E10: 2
A11: 6 | B11: Oliver Randall | C11: Southend-on-Sea AC | E11: 10
A12: 7 | B12: Sarab Dhillon | C12: Thurrock Harriers | E12: 37
A13: 8 | B13: Joseph Clark | C13: Orion Harriers | E13: 41
A14: 9 | B14: Freddy Richardson | C14: Colchester & Tendring AC | E14: 43 | I14: Teams | J14: Time
A15: 10 | B15: Luke Gill | C15: East Essex Triathlon Club | D15: 24: | E15: 18 | H15: 1 | I15: Southend-on-Sea AC | J15: 40
A16: 11 | B16: Matt Norris | C16: Southend-on-Sea AC | E16: 21 | H16: 2 | I16: Thurrock Harriers | J16: 34 | K16: (3)
A17: 12 | B17: Jack Exley | C17: Thurrock Harriers | E17: 39 | H17: 3 | I17: Basildon AC | J17: 44 | K17: (3)
A18: 13 | B18: Fergus Crouch | C18: Colchester Harriers AC | E18: 46 | H18: 4 | I18: Colchester & Tendring AC | J18: 12 | K18: (2)
A19: 14 | B19: Mario Montes | C19: Cambridge & Coleridge AC | E19: 57 | H19: 5 | I19: Cambridge & Coleridge AC | J19: 16 | K19: (2)
A20: 15 | B20: Joe Logan | C20: Thurrock Harriers | D20: 25: | E20: 0 | H20: 6 | I20: Orion Harriers | J20: 28 | K20: (2)
A21: 16 | B21: Callum Liassi | C21: Benfleet Running Club | E21: 27 | H21: 7 | I21: Benfleet Running Club | J21: 33 | K21: (2)
A22: 17 | B22: Dexter Goward | C22: Benfleet Running Club | E22: 39 | H22: 8 | I22: Colchester Harriers AC | J22: 35 | K22: (2)
A23: 18 | B23: Craig Wheeler | C23: Southend-on-Sea AC | E23: 59 | H23: 9 | I23: Harlow AC | J23: 1 | K23: (1)
A24: 19 | B24: George Applewhite | C24: Basildon AC | D24: 26: | E24: 7 | H24: 10 | I24: East Essex Triathlon Club | J24: 10 | K24: (1)
A25: 20 | B25: William Jones | C25: Orion Harriers | E25: 12
A26: 21 | B26: Reece Scott | C26: Basildon AC | E26: 26
A27: 22 | B27: Joseph Boden | C27: Colchester Harriers AC | E27: 49
A47: Find us on Facebook under ESSEX CROSS COUNTRY LEAGUE

Sheet SW
A2: =U13G!A2 -> Essex Cross Country League (3) | H2: Sponsored by
A3: =U13G!A3 -> Horseheath | D3: Senior Women | E3: =U13G!D3 -> 42693
A5: Pos | B5: Age | C5: Name | D5: Team | E5: Time | H5: Division 1 | I5: Teams (4 to score)
A6: 1 | B6: SW | C6: Faye Fullerton | D6: Havering AC | E6: 22: | F6: 53 | H6: 1 | I6: Chelmsford AC | J6: 36 | L6: Chelmsford AC | M6: Div 1 | N6: 21 | P6: 1
A7: 2 | B7: W35 | C7: Liz Davies | D7: Springfield Striders RC | E7: 23: | F7: 43 | H7: 2 | I7: Southend-on-Sea AC | J7: 62 | L7: Southend-on-Sea AC | M7: Div 1 | N7: 41 | P7: 2
A8: 3 | B8: SW | C8: Kerry Holland | D8: Southend-on-Sea AC | E8: 24: | F8: 25 | H8: 3 | I8: Cambridge & Coleridge AC | J8: 65 | L8: Colchester Harriers AC | M8: Div 1 | N8: 45 | P8: 3
A9: 4 | B9: SW | C9: Claire Somerton | D9: Cambridge & Coleridge AC | E9: : | F9: 26 | H9: 4 | I9: Basildon AC | J9: 66 | L9: Benfleet Running Club | M9: Div 1 | N9: 108 | P9: 4
A10: 5 | B10: SW | C10: Alexa Joel | D10: Chelmsford AC | E10: : | F10: 34 | H10: 5 | I10: Colchester Harriers AC | J10: 77 | L10: Ilford AC | M10: Div 1 | N10: 131 | P10: 5
A11: 6 | B11: SW | C11: Laura Brooks | D11: Basildon AC | E11: : | F11: 40 | H11: 6 | I11: Springfield Striders RC | J11: 100 | L11: Springfield Striders RC | M11: Div 1 | N11: 166 | P11: 7
A12: 7 | B12: W35 | C12: Sally Judd | D12: Chelmsford AC | E12: : | F12: 42 | H12: 7 | I12: Benfleet Running Club | J12: 171 | L12: Phoenix Striders | M12: Div 1 | N12: 169 | P12: 8
A13: 8 | B13: SW | C13: Clare Thurgood | D13: Orion Harriers | E13: 25: | F13: 3 | H13: 8 | I13: Thrift Green Trotters | J13: 233 | L13: Pitsea Running Club | M13: Div 1 | N13: 231 | P13: 9
A14: 9 | B14: SW | C14: Carla Brown | D14: Cambridge & Coleridge AC | E14: : | F14: 13 | H14: 9 | I14: Ilford AC | J14: 246 | L14: Cambridge & Coleridge AC | M14: Div 1 | N14: 13 | O14: (1) | P14: 14
A15: 10 | B15: SW | C15: Sarah Imbush | D15: Southend-on-Sea AC | E15: : | F15: 33 | H15: 10 | I15: Phoenix Striders | J15: 285 | L15: Orion Harriers | M15: Div 1 | N15: 30 | O15: (1) | P15: 16
A16: 11 | B16: SW | C16: Rebecca Luxton | D16: Chelmsford AC | E16: : | F16: 44 | H16: 11 | I16: Orion Harriers | J16: 63 | K16: (3) | L16: Havering AC | M16: Div 1 | N16: 46 | O16: (1) | P16: 17
A17: 12 | B17: W35 | C17: Hayley Hawes | D17: East Essex Triathlon Club | E17: : | F17: 58 | L17: Thrift Green Trotters | M17: Div 2 | N17: 154 | P17: 6
A18: 13 | B18: SW | C18: Vicki Hayes | D18: Chelmsford AC | E18: 26: | F18: 1 | H18: Division 2 | I18: Teams (4 to score) | L18: Basildon AC | M18: Div 2 | N18: 11 | O18: (2) | P18: 10
A19: 14 | B19: W45 | C19: Wendy King | D19: Chelmsford AC | E19: : | F19: 28 | H19: 1 | I19: Billericay Striders RC | J19: 182 | L19: Thurrock Harriers | M19: Div 2 | N19: 47 | O19: (2) | P19: 11
A20: 15 | B20: W45 | C20: Denise Morley | D20: Colchester Harriers AC | E20: : | F20: 39 | H20: 2 | I20: Halstead RR | J20: 207 | L20: Mid Essex Casuals | M20: Div 2 | N20: 78 | O20: (2) | P20: 12
A21: 16 | B21: SW | C21: Sarah Pennington | D21: Southend-on-Sea AC | E21: : | F21: 53 | H21: 3 | I21: Havering AC | J21: 65 | K21: (2) | L21: Braintree & District AC | M21: Div 2 | N21: 114 | O21: (2) | P21: 13
A22: 17 | B22: SW | C22: Rebecca Cooke | D22: Colchester Harriers AC | E22: : | F22: 56 | H22: 4 | I22: East Essex Triathlon Club | J22: 84 | K22: (2) | L22: Colchester & Tendring AC | M22: Div 2 | N22: 29 | O22: (1) | P22: 15
A23: 18 | B23: SW | C23: Ella Neale | D23: Colchester Harriers AC | E23: 27: | F23: 16 | H23: 5 | I23: Pitsea Running Club | J23: 142 | K23: (2)
A24: 19 | B24: SW | C24: Karen Whitmarsh | D24: Basildon AC | E24: : | F24: 25 | H24: 6 | I24: Colchester & Tendring AC | J24: 22 | K24: (1)
A25: 20 | B25: SW | C25: Emily Bullis | D25: Basildon AC | E25: : | F25: 33 | H25: 7 | I25: Mid Essex Casuals | J25: 44 | K25: (1)
A26: 21 | B26: SW | C26: Nicola Bredin | D26: Basildon AC | E26: : | F26: 34 | H26: 8 | I26: Braintree & District AC | J26: 60 | K26: (1)
A27: 22 | B27: W45 | C27: Margaret Deasy | D27: Colchester & Tendring AC | E27: : | F27: 38
A28: 23 | B28: SW | C28: Charmaine Sterling | D28: Benfleet Running Club | E28: : | F28: 42 | H28: Veterans | I28: Teams (3 to score)
A29: 24 | B29: W45 | C29: Stefanie Godfrey | D29: Cambridge & Coleridge AC | E29: : | F29: 45 | H29: 1 | I29: Chelmsford AC | J29: 50
A30: 25 | B30: SW | C30: Natalie Kipps | D30: Orion Harriers | E30: : | F30: 59 | H30: 2 | I30: Springfield Striders RC | J30: 63
A31: 26 | B31: W35 | C31: Polly Bridgman | D31: Springfield Striders RC | E31: 28: | F31: 2 | H31: 3 | I31: Cambridge & Coleridge AC | J31: 84
A32: 27 | B32: W35 | C32: Annette Oakman | D32: Colchester Harriers AC | E32: : | F32: 7 | H32: 4 | I32: Billericay Striders RC | J32: 132
A33: 28 | B33: W35 | C33: Carrie Bedingfield | D33: Cambridge & Coleridge AC | E33: : | F33: 20 | H33: 5 | I33: Southend-on-Sea AC | J33: 138
A34: 29 | B34: W45 | C34: Joanne Smith | D34: Chelmsford AC | E34: : | F34: 24 | H34: 6 | I34: Ilford AC | J34: 164
A35: 30 | B35: W45 | C35: Alison Trauttmansdorff | D35: Orion Harriers | E35: : | F35: 29 | H35: 6 | I35: Thrift Green Trotters | J35: 164
A36: 31 | B36: W35 | C36: Louise Douglass | D36: Basildon AC | E36: : | F36: 32 | H36: 8 | I36: Benfleet Running Club | J36: 171
A37: 32 | B37: W35 | C37: Rachel Pritchard | D37: Cambridge & Coleridge AC | E37: : | F37: 46 | H37: 9 | I37: Halstead RR | J37: 177
A38: 33 | B38: W35 | C38: Natasha Lagden | D38: Southend-on-Sea AC | E38: : | F38: 50 | H38: 10 | I38: Phoenix Striders | J38: 200
A39: 34 | B39: SW | C39: Holly Gillard | D39: Southend-on-Sea AC | E39: 29: | F39: 21 | H39: 11 | I39: Colchester Harriers AC | J39: 42 | K39: (2)
A40: 35 | B40: W35 | C40: Emily Smith | D40: Springfield Striders RC | E40: : | F40: 25 | H40: 12 | I40: Basildon AC | J40: 77 | K40: (2)
A41: 36 | B41: SW | C41: Hazel Buist | D41: Halstead RR | E41: 30: | F41: 20 | H41: 13 | I41: East Essex Triathlon Club | J41: 84 | K41: (2)
A42: 37 | B42: W35 | C42: Victoria Curren | D42: Springfield Striders RC | E42: : | F42: 24 | H42: 14 | I42: Pitsea Running Club | J42: 142 | K42: (2)
A43: 38 | B43: SW | C43: Katie Wilkinson | D43: Benfleet Running Club | E43: : | F43: 29 | H43: 15 | I43: Colchester & Tendring AC | J43: 22 | K43: (1)
A44: 39 | B44: W35 | C44: Kathleen Short | D44: Thrift Green Trotters | E44: 31: | F44: 10 | H44: 16 | I44: Orion Harriers | J44: 30 | K44: (1)
A45: 40 | B45: SW | C45: Narinder Kalsi | D45: Guest | E45: : | F45: 30 | H45: 17 | I45: Mid Essex Casuals | J45: 44 | K45: (1)
A46: 41 | B46: W45 | C46: Nicola Hopkinson | D46: Ilford AC | E46: : | F46: 38 | H46: 18 | I46: Braintree & District AC | J46: 60 | K46: (1)
A47: 42 | B47: W35 | C47: Ruth Havis | D47: Billericay Striders RC | E47: 32: | F47: 1 | H47: 19 | I47: Havering AC | J47: 64 | K47: (1)
A48: 43 | B48: W55 | C48: Christine Deacon | D48: Billericay Striders RC | E48: : | F48: 18
A49: 44 | B49: W45 | C49: Lorna Pettifer | D49: Mid Essex Casuals | E49: : | F49: 37
A50: 45 | B50: W45 | C50: Jo Pearce | D50: Phoenix Striders | E50: : | F50: 37
A52: Find us on Facebook under ESSEX CROSS COUNTRY LEAGUE
A53: Pos | B53: Age | C53: Name | D53: Team | E53: Time
A54: 46 | B54: W45 | C54: Mandy Wetheridge | D54: Basildon AC | E54: 32: | F54: 55
A55: 47 | B55: W45 | C55: Julie Boxer | D55: Billericay Striders RC | E55: 33: | F55: 8
A56: 48 | B56: W45 | C56: Dianne Crisp | D56: Ilford AC | E56: : | F56: 15
A57: 49 | B57: W45 | C57: Allison Gillan | D57: Springfield Striders RC | E57: : | F57: 24
A58: 50 | B58: W35 | C58: Joanne Ling | D58: Billericay Striders RC | E58: : | F58: 27
A59: 51 | B59: W65 | C59: Diana Braverman | D59: Cambridge & Coleridge AC | E59: : | F59: 33
A60: 52 | B60: W35 | C60: Debbielyn Hallam | D60: Southend-on-Sea AC | E60: : | F60: 38
A61: 53 | B61: W45 | C61: Sue Crompton | D61: Southend-on-Sea AC | E61: : | F61: 45
A62: 54 | B62: W35 | C62: Sarah Norton | D62: Benfleet Running Club | E62: : | F62: 46
A63: 55 | B63: W45 | C63: Wendy Carter | D63: Halstead RR | E63: 34: | F63: 4
A64: 56 | B64: W45 | C64: Mandy Cooper | D64: Benfleet Running Club | E64: : | F64: 8
A65: 57 | B65: W35 | C65: Charlotte King | D65: Halstead RR | E65: : | F65: 16
... A93: 85 | B93: W55 | C93: Adele Moggan | D93: Phoenix Striders | E93: 48: | F93: 8
A107: Find us on Facebook under ESSEX CROSS COUNTRY LEAGUE

Sheet SM
A2: =U13G!A2 -> Essex Cross Country League (3) | H2: Sponsored by
A3: =U13G!A3 -> Horseheath | D3: Senior Men | E3: =U13G!D3 -> 42693
A5: Pos | B5: Age | C5: Name | D5: Team | E5: Time | H5: Division 1 | I5: Teams (6 to score)
A6: 1 | B6: SM | C6: Tom Frith | D6: Southend-on-Sea AC | E6: 27: | F6: 39 | H6: 1 | I6: Springfield Striders RC | J6: 131
A7: 2 | B7: V40 | C7: Sullivan Smith | D7: Cambridge & Coleridge AC | E7: : | F7: 58 | H7: 2 | I7: Havering AC | J7: 162
A8: 3 | B8: SM | C8: Rob Warner | D8: Havering AC | E8: 28: | F8: 5 | H8: 3 | I8: Southend-on-Sea AC | J8: 175
A9: 4 | B9: SM | C9: Alec Finch | D9: Thurrock Harriers | E9: : | F9: 22 | H9: 4 | I9: Orion Harriers | J9: 197
A10: 5 | B10: SM | C10: Matt Granger | D10: Chelmsford AC | E10: : | F10: 49 | H10: 5 | I10: Colchester Harriers AC | J10: 247
A11: 6 | B11: SM | C11: Tristan Windley | D11: Springfield Striders RC | E11: : | F11: 59 | H11: 6 | I11: Benfleet Running Club | J11: 320
A12: 7 | B12: U20 | C12: Harrison Smith | D12: Basildon AC | E12: 29: | F12: 13 | H12: 7 | I12: Basildon AC | J12: 393
A13: 8 | B13: SM | C13: Tom Cammack | D13: Springfield Striders RC | E13: : | F13: 23 | H13: 8 | I13: Phoenix Striders | J13: 698
A14: 9 | B14: SM | C14: Toby Fletcher | D14: Cambridge & Coleridge AC | E14: : | F14: 30 | H14: 9 | I14: Chelmsford AC | J14: 382 | K14: (5)
A15: 10 | B15: U20 | C15: Ben Davis | D15: Havering AC | E15: : | F15: 50 | H15: 10 | I15: Ilford AC | J15: 535 | K15: (5)
A16: 11 | B16: SM | C16: Rhys Gillard | D16: Southend-on-Sea AC | E16: : | F16: 59 | H16: 11 | I16: Thrift Green Trotters | J16: 378 | K16: (4)
A17: 12 | B17: V40 | C17: Rodger Maidment | D17: Orion Harriers | E17: 30: | F17: 15 | H17: 12 | I17: Pitsea Running Club | J17: 516 | K17: (4)
A18: 13 | B18: V40 | C18: Steve Rand | D18: Havering AC | E18: : | F18: 17
A19: 14 | B19: U20 | C19: Dan Richards | D19: Orion Harriers | E19: : | F19: 19 | H19: Division 2 | I19: Teams (6 score)
A20: 15 | B20: U20 | C20: William Page | D20: Colchester & Tendring AC | E20: : | F20: 22 | H20: 1 | I20: Cambridge & Coleridge AC | J20: 132
A21: 16 | B21: U20 | C21: Brandon Thorpe | D21: Basildon AC | E21: : | F21: 27 | H21: 2 | I21: Thurrock Harriers | J21: 240
A22: 17 | B22: SM | C22: Charlie Parker | D22: Southend-on-Sea AC | E22: : | F22: 28 | H22: 3 | I22: Halstead RR | J22: 548
A23: 18 | B23: V40 | C23: Lee Taylor | D23: Southend-on-Sea AC | E23: : | F23: 29 | H23: 4 | I23: Mid Essex Casuals | J23: 455 | K23: (4)
A24: 19 | B24: U20 | C24: Samuel Smith | D24: Thurrock Harriers | E24: : | F24: 37 | H24: 5 | I24: Colchester & Tendring AC | J24: 156 | K24: (3)
A25: 20 | B25: SM | C25: Kurtis Swan | D25: Billericay Striders RC | E25: : | F25: 41 | H25: 6 | I25: East Essex Triathlon Club | J25: 261 | K25: (3)
A26: 21 | B26: SM | C26: Danny Moses | D26: Orion Harriers | E26: : | F26: 47 | H26: 7 | I26: Billericay Striders RC | J26: 76 | K26: (2)
A27: 22 | B27: SM | C27: Alfie Waithaka | D27: Havering AC | E27: : | F27: 50 | H27: 8 | I27: Braintree & District AC | J27: 175 | K27: (2)
A28: 23 | B28: SM | C28: Alex Manton | D28: Springfield Striders RC | E28: : | F28: 50 | H28: 9 | I28: Loughton AC | J28: 148 | K28: (1)
A29: 24 | B29: SM | C29: Robert Mahen | D29: Cambridge & Coleridge AC | E29: : | F29: 51
A30: 25 | B30: U20 | C30: Joseph Patterson | D30: Colchester & Tendring AC | E30: : | F30: 51 | I30: Veteran Team Result (4 to score)
A31: 26 | B31: SM | C31: Alastair Hodges | D31: Cambridge & Coleridge AC | E31: : | F31: 53 | H31: 1 | I31: Colchester Harriers AC | J31: 124
A32: 27 | B32: V50 | C32: Colin Ridley | D32: Colchester Harriers AC | E32: : | F32: 54 | H32: 2 | I32: Springfield Striders RC | J32: 175
A33: 28 | B33: V40 | C33: Paul Rodgers | D33: Colchester Harriers AC | E33: 31: | F33: 0 | H33: 3 | I33: Cambridge & Coleridge AC | J33: 176
A34: 29 | B34: V40 | C34: Mark Harrod | D34: Colchester Harriers AC | E34: : | F34: 14 | H34: 3 | I34: Orion Harriers | J34: 176
A35: 30 | B35: SM | C35: James Wright | D35: Springfield Striders RC | E35: : | F35: 17 | H35: 5 | I35: Southend-on-Sea AC | J35: 233
A36: 31 | B36: SM | C36: Philip Smith | D36: Springfield Striders RC | E36: : | F36: 22 | H36: 6 | I36: Benfleet Running Club | J36: 235
A37: 32 | B37: SM | C37: Alex Eggeman | D37: Cambridge & Coleridge AC | E37: : | F37: 23 | H37: 7 | I37: Thurrock Harriers | J37: 305
A38: 33 | B38: V40 | C38: Lee Martin | D38: Springfield Striders RC | E38: : | F38: 30 | H38: 8 | I38: Chelmsford AC | J38: 377
A39: 34 | B39: V40 | C39: Colin Read | D39: Orion Harriers | E39: : | F39: 31 | H39: 9 | I39: Thrift Green Trotters | J39: 378
A40: 35 | B40: V40 | C40: Robin Tubbs | D40: Chelmsford AC | E40: : | F40: 35 | H40: 10 | I40: Halstead RR | J40: 419
A41: 36 | B41: V40 | C41: Scott Rice | D41: Thurrock Harriers | E41: : | F41: 37 | H41: 11 | I41: Ilford AC | J41: 456
A42: 37 | B42: SM | C42: Andy Jopson | D42: Benfleet Running Club | E42: : | F42: 49 | H42: 12 | I42: Basildon AC | J42: 473
A43: 38 | B43: V40 | C43: Andy Low | D43: Benfleet Running Club | E43: : | F43: 56 | H43: 13 | I43: Phoenix Striders | J43: 488
A44: 39 | B44: V40 | C44: Paul Veitch | D44: Cambridge & Coleridge AC | E44: 32: | F44: 1 | H44: 14 | I44: Havering AC | J44: 187 | K44: (3)
A45: 40 | B45: V40 | C45: Jon Nears | D45: Colchester Harriers AC | E45: : | F45: 3 | H45: 15 | I45: Mid Essex Casuals | J45: 395 | K45: (3)
A46: 41 | B46: U20 | C46: James Stewart | D46: Havering AC | E46: : | F46: 5 | H46: 16 | I46: Pitsea Running Club | J46: 459 | K46: (3)
A47: 42 | B47: SM | C47: Sam Cornforth | D47: Springfield Striders RC | E47: : | F47: 7 | H47: 17 | I47: East Essex Triathlon Club | J47: 200 | K47: (2)
A48: 43 | B48: V40 | C48: Anthony Goodall | D48: Springfield Striders RC | E48: : | F48: 9 | H48: 18 | I48: Billericay Striders RC | J48: 56 | K48: (1)
A49: 44 | B49: U20 | C49: Oliver Mann | D49: Thurrock Harriers | E49: : | F49: 11 | H49: 19 | I49: Braintree & District AC | J49: 98 | K49: (1)
A50: 45 | B50: V50 | C50: Paul Spowage | D50: Colchester Harriers AC | E50: : | F50: 12 | H50: 20 | I50: Colchester & Tendring AC | J50: 116 | K50: (1)
A51: 46 | B51: V40 | C51: Al Pritchard | D51: Cambridge & Coleridge AC | E51: : | F51: 14 | H51: 21 | I51: Loughton AC | J51: 148 | K51: (1)
A52: 47 | B52: SM | C52: Ollie Young | D52: Cambridge & Coleridge AC | E52: : | F52: 15
A53: 48 | B53: SM | C53: Chris Wayman | D53: Benfleet Running Club | E53: : | F53: 18
A54: 49 | B54: V40 | C54: Scott Dryden | D54: Springfield Striders RC | E54: : | F54: 23
A55: 50 | B55: V40 | C55: Stuart Raven | D55: Springfield Striders RC | E55: : | F55: 28
A56: 51 | B56: U20 | C56: Christian Gray | D56: Basildon AC | E56: : | F56: 34
A57: 52 | B57: SM | C57: Craig Horsburgh | D57: Orion Harriers | E57: : | F57: 43
A58: 53 | B58: V40 | C58: Gary Chandler | D58: Springfield Striders RC | E58: : | F58: 49
A59: 54 | B59: V50 | C59: John Barker | D59: Thrift Green Trotters | E59: : | F59: 55
A60: 55 | B60: V50 | C60: Michael Bridgeland | D60: Chelmsford AC | E60: 33: | F60: 1
A61: 56 | B61: V40 | C61: Andy Wright | D61: Billericay Striders RC | E61: : | F61: 6
A62: Find us on Facebook under ESSEX CROSS COUNTRY LEAGUE
A63: Pos | B63: Age | C63: Name | D63: Team | E63: Time
A64: 57 | B64: SM | C64: Jack Morris | D64: Pitsea Running Club | E64: 33: | F64: 16
A65: 58 | B65: V40 | C65: Graham Booty | D65: Benfleet Running Club | E65: : | F65: 18
A66: 59 | B66: V40 | C66: Terry Spooner | D66: Benfleet Running Club | E66: : | F66: 18
A67: 60 | B67: SM | C67: Dan Reynolds | D67: Mid Essex Casuals | E67: : | F67: 23
A68: 61 | B68: U20 | C68: Tom Muers | D68: East Essex Triathlon Club | E68: : | F68: 24
A69: 62 | B69: U20 | C69: Curtis Wood | D69: Cambridge & Coleridge AC | E69: : | F69: 26
A70: 63 | B70: V50 | C70: Alec Kyriakides | D70: Southend-on-Sea AC | E70: : | F70: 31
A71: 64 | B71: V40 | C71: Adam Baker | D71: Orion Harriers | E71: : | F71: 34
A72: 65 | B72: V40 | C72: Christian Holmes | D72: Southend-on-Sea AC | E72: : | F72: 39
A73: 66 | B73: V40 | C73: Adrian Smith | D73: Orion Harriers | E73: : | F73: 44
A74: 67 | B74: V40 | C74: Toby Drape | D74: Thurrock Harriers | E74: : | F74: 48
A75: 68 | B75: V40 | C75: Richard Candler | D75: Halstead RR | E75: : | F75: 50
... A119: 112 | B119: V40 | C119: Simon Morgan | D119: Colchester Harriers AC | E119: : | F119: 36
A120: Find us on Facebook under ESSEX CROSS COUNTRY LEAGUE
A121: Pos | B121: Age | C121: Name | D121: Team | E121: Time
A122: 113 | B122: SM | C122: Ben Chamberlain | D122: Cambridge & Coleridge AC | E122: 37: | F122: 44
A123: 114 | B123: SM | C123: Andy Owen | D123: Halstead RR | E123: : | F123: 53
A124: 115 | B124: U20 | C124: Aidan Elmore | D124: Havering AC | E124: 38: | F124: 6
A125: 116 | B125: V40 | C125: Ben Hammond | D125: Colchester & Tendring AC | E125: : | F125: 14
A126: 117 | B126: V40 | C126: Steve Bennett | D126: Orion Harriers | E126: : | F126: 18
A127: 118 | B127: V50 | C127: Julian Catmull | D127: Springfield Striders RC | E127: : | F127: 18
A128: 119 | B128: V60 | C128: Richard Taylor | D128: Springfield Striders RC | E128: : | F128: 23
A129: 120 | B129: V50 | C129: Dave Brock | D129: Orion Harriers | E129: : | F129: 42
A130: 121 | B130: V40 | C130: Ian Pike | D130: Benfleet Running Club | E130: 39: | F130: 11
A131: 122 | B131: V50 | C131: Simon King | D131: Halstead RR | E131: : | F131: 17
A132: 123 | B132: V40 | C132: Lee Hazlewood | D132: Phoenix Striders | E132: : | F132: 22
A133: 124 | B133: SM | C133: Joe McGrath | D133: Basildon AC | E133: : | F133: 26
... A166: 157 | B166: V50 | C166: Stephen Williams | D166: Chelmsford AC | E166: 57: | F166: 2
A178: Find us on Facebook under ESSEX CROSS COUNTRY LEAGUE
